BEGIN:VCALENDAR
VERSION:2.0
PRODID:-//ENOC Fundación - ECPv6.6.1//NONSGML v1.0//EN
CALSCALE:GREGORIAN
METHOD:PUBLISH
X-WR-CALNAME:ENOC Fundación
X-ORIGINAL-URL:https://fundaenoc.org
X-WR-CALDESC:Eventos para ENOC Fundación
REFRESH-INTERVAL;VALUE=DURATION:PT1H
X-Robots-Tag:noindex
X-PUBLISHED-TTL:PT1H
BEGIN:VTIMEZONE
TZID:America/Bogota
BEGIN:STANDARD
TZOFFSETFROM:-0500
TZOFFSETTO:-0500
TZNAME:-05
DTSTART:20240101T000000
END:STANDARD
END:VTIMEZONE
BEGIN:VEVENT
DTSTART;VALUE=DATE:20240829
DTEND;VALUE=DATE:20240830
DTSTAMP:20260418T101607
CREATED:20240814T182650Z
LAST-MODIFIED:20240814T183232Z
UID:5868-1724889600-1724975999@fundaenoc.org
SUMMARY:Desfile por la paz
DESCRIPTION:
URL:https://fundaenoc.org/event/desfile-por-la-paz/
CATEGORIES:Desfiles
ATTACH;FMTTYPE=image/webp:https://fundaenoc.org/wp-content/uploads/2024/08/paz-min.webp
END:VEVENT
END:VCALENDAR